BEGIN:VCALENDAR
VERSION:2.0
PRODID:-//Charlie &amp; Echo - ECPv6.6.4.2//NONSGML v1.0//EN
CALSCALE:GREGORIAN
METHOD:PUBLISH
X-WR-CALNAME:Charlie &amp; Echo
X-ORIGINAL-URL:https://charlieandecho.com
X-WR-CALDESC:Events for Charlie &amp; Echo
REFRESH-INTERVAL;VALUE=DURATION:PT1H
X-Robots-Tag:noindex
X-PUBLISHED-TTL:PT1H
BEGIN:VTIMEZONE
TZID:America/Los_Angeles
BEGIN:DAYLIGHT
TZOFFSETFROM:-0800
TZOFFSETTO:-0700
TZNAME:PDT
DTSTART:20260308T100000
END:DAYLIGHT
BEGIN:STANDARD
TZOFFSETFROM:-0700
TZOFFSETTO:-0800
TZNAME:PST
DTSTART:20261101T090000
END:STANDARD
END:VTIMEZONE
BEGIN:VEVENT
DTSTART;VALUE=DATE:20260423
DTEND;VALUE=DATE:20260427
DTSTAMP:20260420T094804
CREATED:20260129T220859Z
LAST-MODIFIED:20260129T220859Z
UID:10000516-1776902400-1777247999@charlieandecho.com
SUMMARY:Raspberry Plum Sangria
DESCRIPTION:Red wine\,  fresh raspberry juice\, plum juice\, and a raspberry infused brandy. \n12 oz can\, 13.5% ABV
URL:https://charlieandecho.com/event/raspberry-plum-sangria/
LOCATION:Charlie & Echo\, 8680 Miralani Dr #125\, San Diego\, CA\, 92126\, United States
CATEGORIES:Project X
ATTACH;FMTTYPE=image/jpeg:https://charlieandecho.com/wp-content/uploads/2024/01/events-Project-X-2024-Sangrias-calendar.jpg
ORGANIZER;CN="Charlie & Echo":MAILTO:info@charlieandecho.com
END:VEVENT
BEGIN:VEVENT
DTSTART;VALUE=DATE:20260426
DTEND;VALUE=DATE:20260427
DTSTAMP:20260420T094804
CREATED:20260318T165406Z
LAST-MODIFIED:20260318T165406Z
UID:10000531-1777161600-1777247999@charlieandecho.com
SUMMARY:Wine Club – First Round on Us!
DESCRIPTION:Wine Club Members – come in on this day\, and the first round for you and a guest is on us!
URL:https://charlieandecho.com/event/wine-club-first-round-on-us-18/
LOCATION:Charlie & Echo\, 8680 Miralani Dr #125\, San Diego\, CA\, 92126\, United States
CATEGORIES:First Round on Us
ATTACH;FMTTYPE=image/jpeg:https://charlieandecho.com/wp-content/uploads/2018/01/wine-tasting-e1583191775166.jpg
ORGANIZER;CN="Charlie & Echo":MAILTO:info@charlieandecho.com
END:VEVENT
BEGIN:VEVENT
DTSTART;VALUE=DATE:20260430
DTEND;VALUE=DATE:20260504
DTSTAMP:20260420T094804
CREATED:20260129T221008Z
LAST-MODIFIED:20260129T221008Z
UID:10000517-1777507200-1777852799@charlieandecho.com
SUMMARY:Pineapple Coconut Sangria
DESCRIPTION:White wine\, pineapple juice\, coconut syrup\, barrel-aged brandy\, and a touch of lime juice. \n12 oz can\, 13.5% ABV
URL:https://charlieandecho.com/event/pineapple-coconut-sangria/
LOCATION:Charlie & Echo\, 8680 Miralani Dr #125\, San Diego\, CA\, 92126\, United States
CATEGORIES:Project X
ATTACH;FMTTYPE=image/jpeg:https://charlieandecho.com/wp-content/uploads/2024/01/events-Project-X-2024-Sangrias-calendar.jpg
ORGANIZER;CN="Charlie & Echo":MAILTO:info@charlieandecho.com
END:VEVENT
BEGIN:VEVENT
DTSTART;TZID=America/Los_Angeles:20260430T180000
DTEND;TZID=America/Los_Angeles:20260430T193000
DTSTAMP:20260420T094804
CREATED:20260413T195040Z
LAST-MODIFIED:20260413T195040Z
UID:10000543-1777572000-1777577400@charlieandecho.com
SUMMARY:Movie Night - Space Mutiny
DESCRIPTION:SPECIAL NIGHT \nTonight’s feature – 1988 American-South African science fiction film\, Space Mutiny! \n“There is nowhere to hide from the enemy within!” \nA pilot is the only hope to stop the mutiny of a spacecraft by its security crew\, who plot to sell the crew of the ship into slavery.
URL:https://charlieandecho.com/event/movie-night-space-mutiny/
LOCATION:Charlie & Echo\, 8680 Miralani Dr #125\, San Diego\, CA\, 92126\, United States
CATEGORIES:Movie Night
ATTACH;FMTTYPE=image/jpeg:https://charlieandecho.com/wp-content/uploads/2026/04/space-mutiny-e1776109807525.jpg
ORGANIZER;CN="Charlie & Echo":MAILTO:info@charlieandecho.com
END:VEVENT
BEGIN:VEVENT
DTSTART;VALUE=DATE:20260501
DTEND;VALUE=DATE:20260502
DTSTAMP:20260420T094804
CREATED:20260403T190221Z
LAST-MODIFIED:20260413T193437Z
UID:10000534-1777593600-1777679999@charlieandecho.com
SUMMARY:Wine Club – First Round on Us!
DESCRIPTION:Wine Club Members – come in on this day\, and the first round for you and a guest is on us!
URL:https://charlieandecho.com/event/wine-club-first-round-on-us-2/
LOCATION:Charlie & Echo\, 8680 Miralani Dr #125\, San Diego\, CA\, 92126\, United States
CATEGORIES:First Round on Us
ATTACH;FMTTYPE=image/jpeg:https://charlieandecho.com/wp-content/uploads/2018/01/wine-tasting-e1583191775166.jpg
ORGANIZER;CN="Charlie & Echo":MAILTO:info@charlieandecho.com
END:VEVENT
BEGIN:VEVENT
DTSTART;VALUE=DATE:20260507
DTEND;VALUE=DATE:20260509
DTSTAMP:20260420T094804
CREATED:20260413T200544Z
LAST-MODIFIED:20260416T155847Z
UID:10000546-1778112000-1778284799@charlieandecho.com
SUMMARY:Special Closure
DESCRIPTION:Thursday\, May 7 and Friday\, May 8 – Special R&R Closure
URL:https://charlieandecho.com/event/special-closure/
LOCATION:Charlie & Echo\, 8680 Miralani Dr #125\, San Diego\, CA\, 92126\, United States
ATTACH;FMTTYPE=image/jpeg:https://charlieandecho.com/wp-content/uploads/2024/04/1-sorry-we-re-closed-but-still-awesome-tag-1101720.jpg
ORGANIZER;CN="Charlie & Echo":MAILTO:info@charlieandecho.com
END:VEVENT
BEGIN:VEVENT
DTSTART;VALUE=DATE:20260509
DTEND;VALUE=DATE:20260510
DTSTAMP:20260420T094804
CREATED:20260403T190332Z
LAST-MODIFIED:20260413T193427Z
UID:10000535-1778284800-1778371199@charlieandecho.com
SUMMARY:Wine Club – First Round on Us!
DESCRIPTION:Wine Club Members – come in on this day\, and the first round for you and a guest is on us!
URL:https://charlieandecho.com/event/wine-club-first-round-on-us-10/
LOCATION:Charlie & Echo\, 8680 Miralani Dr #125\, San Diego\, CA\, 92126\, United States
CATEGORIES:First Round on Us
ATTACH;FMTTYPE=image/jpeg:https://charlieandecho.com/wp-content/uploads/2018/01/wine-tasting-e1583191775166.jpg
ORGANIZER;CN="Charlie & Echo":MAILTO:info@charlieandecho.com
END:VEVENT
BEGIN:VEVENT
DTSTART;VALUE=DATE:20260510
DTEND;VALUE=DATE:20260511
DTSTAMP:20260420T094804
CREATED:20260413T200137Z
LAST-MODIFIED:20260413T200137Z
UID:10000545-1778371200-1778457599@charlieandecho.com
SUMMARY:CLOSED Mother's Day
DESCRIPTION:CLOSED for Mother’s Day
URL:https://charlieandecho.com/event/closed-mothers-day/
LOCATION:Charlie & Echo\, 8680 Miralani Dr #125\, San Diego\, CA\, 92126\, United States
ATTACH;FMTTYPE=image/jpeg:https://charlieandecho.com/wp-content/uploads/2026/04/mothers-day-e1776110456875.jpg
ORGANIZER;CN="Charlie & Echo":MAILTO:info@charlieandecho.com
END:VEVENT
BEGIN:VEVENT
DTSTART;VALUE=DATE:20260514
DTEND;VALUE=DATE:20260516
DTSTAMP:20260420T094804
CREATED:20260413T224358Z
LAST-MODIFIED:20260416T155831Z
UID:10000548-1778716800-1778889599@charlieandecho.com
SUMMARY:Special Closure
DESCRIPTION:Thursday\, May 14 and Friday\, May 15 – Special R&R Closure
URL:https://charlieandecho.com/event/special-closure-3/
LOCATION:Charlie & Echo\, 8680 Miralani Dr #125\, San Diego\, CA\, 92126\, United States
ATTACH;FMTTYPE=image/jpeg:https://charlieandecho.com/wp-content/uploads/2024/04/1-sorry-we-re-closed-but-still-awesome-tag-1101720.jpg
ORGANIZER;CN="Charlie & Echo":MAILTO:info@charlieandecho.com
END:VEVENT
BEGIN:VEVENT
DTSTART;VALUE=DATE:20260517
DTEND;VALUE=DATE:20260518
DTSTAMP:20260420T094804
CREATED:20260403T190424Z
LAST-MODIFIED:20260413T193416Z
UID:10000536-1778976000-1779062399@charlieandecho.com
SUMMARY:Wine Club – First Round on Us!
DESCRIPTION:Wine Club Members – come in on this day\, and the first round for you and a guest is on us!
URL:https://charlieandecho.com/event/wine-club-first-round-on-us-19/
LOCATION:Charlie & Echo\, 8680 Miralani Dr #125\, San Diego\, CA\, 92126\, United States
CATEGORIES:First Round on Us
ATTACH;FMTTYPE=image/jpeg:https://charlieandecho.com/wp-content/uploads/2018/01/wine-tasting-e1583191775166.jpg
ORGANIZER;CN="Charlie & Echo":MAILTO:info@charlieandecho.com
END:VEVENT
BEGIN:VEVENT
DTSTART;VALUE=DATE:20260521
DTEND;VALUE=DATE:20260523
DTSTAMP:20260420T094804
CREATED:20260413T224529Z
LAST-MODIFIED:20260416T155819Z
UID:10000550-1779321600-1779494399@charlieandecho.com
SUMMARY:Special Closure
DESCRIPTION:Thursday\, May 21 and Friday\, May 22 – Special R&R Closure
URL:https://charlieandecho.com/event/special-closure-5/
LOCATION:Charlie & Echo\, 8680 Miralani Dr #125\, San Diego\, CA\, 92126\, United States
ATTACH;FMTTYPE=image/jpeg:https://charlieandecho.com/wp-content/uploads/2024/04/1-sorry-we-re-closed-but-still-awesome-tag-1101720.jpg
ORGANIZER;CN="Charlie & Echo":MAILTO:info@charlieandecho.com
END:VEVENT
BEGIN:VEVENT
DTSTART;VALUE=DATE:20260523
DTEND;VALUE=DATE:20260524
DTSTAMP:20260420T094804
CREATED:20260403T190514Z
LAST-MODIFIED:20260413T193354Z
UID:10000537-1779494400-1779580799@charlieandecho.com
SUMMARY:Wine Club – First Round on Us!
DESCRIPTION:Wine Club Members – come in on this day\, and the first round for you and a guest is on us!
URL:https://charlieandecho.com/event/wine-club-first-round-on-us-20/
LOCATION:Charlie & Echo\, 8680 Miralani Dr #125\, San Diego\, CA\, 92126\, United States
CATEGORIES:First Round on Us
ATTACH;FMTTYPE=image/jpeg:https://charlieandecho.com/wp-content/uploads/2018/01/wine-tasting-e1583191775166.jpg
ORGANIZER;CN="Charlie & Echo":MAILTO:info@charlieandecho.com
END:VEVENT
BEGIN:VEVENT
DTSTART;TZID=America/Los_Angeles:20260528T180000
DTEND;TZID=America/Los_Angeles:20260528T193000
DTSTAMP:20260420T094804
CREATED:20260413T195336Z
LAST-MODIFIED:20260413T195336Z
UID:10000544-1779991200-1779996600@charlieandecho.com
SUMMARY:BINGO Night
DESCRIPTION:SPECIAL NIGHT \nBINGO Night – your chance to win big money! \nAnd by big\, we mean crisp\, $100 (fake) bills. Yep\, for every round you win you get cold\, hard\, “copy” money. \nBut\, in addition to looking cool\, they’re not worthless! You can spend your winnings to receive glasses of wine\, bottles\, and other goodies (like the old Wheel of Fortune Showcase\, but with wine). \nGame starts at 6 pm but you can join anytime. Free to play with purchase of a glass of wine.
URL:https://charlieandecho.com/event/bingo-night-4/
LOCATION:Charlie & Echo\, 8680 Miralani Dr #125\, San Diego\, CA\, 92126\, United States
CATEGORIES:Bingo Night
ATTACH;FMTTYPE=image/jpeg:https://charlieandecho.com/wp-content/uploads/2025/09/bingo-night-rs.jpg
ORGANIZER;CN="Charlie & Echo":MAILTO:info@charlieandecho.com
END:VEVENT
BEGIN:VEVENT
DTSTART;VALUE=DATE:20260529
DTEND;VALUE=DATE:20260530
DTSTAMP:20260420T094804
CREATED:20260403T190610Z
LAST-MODIFIED:20260413T193343Z
UID:10000538-1780012800-1780099199@charlieandecho.com
SUMMARY:Wine Club – First Round on Us!
DESCRIPTION:Wine Club Members – come in on this day\, and the first round for you and a guest is on us!
URL:https://charlieandecho.com/event/wine-club-first-round-on-us-21/
LOCATION:Charlie & Echo\, 8680 Miralani Dr #125\, San Diego\, CA\, 92126\, United States
CATEGORIES:First Round on Us
ATTACH;FMTTYPE=image/jpeg:https://charlieandecho.com/wp-content/uploads/2018/01/wine-tasting-e1583191775166.jpg
ORGANIZER;CN="Charlie & Echo":MAILTO:info@charlieandecho.com
END:VEVENT
BEGIN:VEVENT
DTSTART;VALUE=DATE:20260604
DTEND;VALUE=DATE:20260605
DTSTAMP:20260420T094804
CREATED:20260413T193728Z
LAST-MODIFIED:20260413T193728Z
UID:10000539-1780531200-1780617599@charlieandecho.com
SUMMARY:Wine Club – First Round on Us!
DESCRIPTION:Wine Club Members – come in on this day\, and the first round for you and a guest is on us!
URL:https://charlieandecho.com/event/wine-club-first-round-on-us-4/
LOCATION:Charlie & Echo\, 8680 Miralani Dr #125\, San Diego\, CA\, 92126\, United States
CATEGORIES:First Round on Us
ATTACH;FMTTYPE=image/jpeg:https://charlieandecho.com/wp-content/uploads/2018/01/wine-tasting-e1583191775166.jpg
ORGANIZER;CN="Charlie & Echo":MAILTO:info@charlieandecho.com
END:VEVENT
BEGIN:VEVENT
DTSTART;VALUE=DATE:20260612
DTEND;VALUE=DATE:20260613
DTSTAMP:20260420T094804
CREATED:20260413T193759Z
LAST-MODIFIED:20260413T193759Z
UID:10000540-1781222400-1781308799@charlieandecho.com
SUMMARY:Wine Club – First Round on Us!
DESCRIPTION:Wine Club Members – come in on this day\, and the first round for you and a guest is on us!
URL:https://charlieandecho.com/event/wine-club-first-round-on-us-23/
LOCATION:Charlie & Echo\, 8680 Miralani Dr #125\, San Diego\, CA\, 92126\, United States
CATEGORIES:First Round on Us
ATTACH;FMTTYPE=image/jpeg:https://charlieandecho.com/wp-content/uploads/2018/01/wine-tasting-e1583191775166.jpg
ORGANIZER;CN="Charlie & Echo":MAILTO:info@charlieandecho.com
END:VEVENT
BEGIN:VEVENT
DTSTART;VALUE=DATE:20260620
DTEND;VALUE=DATE:20260621
DTSTAMP:20260420T094804
CREATED:20260413T193751Z
LAST-MODIFIED:20260413T193751Z
UID:10000541-1781913600-1781999999@charlieandecho.com
SUMMARY:Wine Club – First Round on Us!
DESCRIPTION:Wine Club Members – come in on this day\, and the first round for you and a guest is on us!
URL:https://charlieandecho.com/event/wine-club-first-round-on-us-22/
LOCATION:Charlie & Echo\, 8680 Miralani Dr #125\, San Diego\, CA\, 92126\, United States
CATEGORIES:First Round on Us
ATTACH;FMTTYPE=image/jpeg:https://charlieandecho.com/wp-content/uploads/2018/01/wine-tasting-e1583191775166.jpg
ORGANIZER;CN="Charlie & Echo":MAILTO:info@charlieandecho.com
END:VEVENT
BEGIN:VEVENT
DTSTART;VALUE=DATE:20260628
DTEND;VALUE=DATE:20260629
DTSTAMP:20260420T094805
CREATED:20260413T193820Z
LAST-MODIFIED:20260413T193820Z
UID:10000542-1782604800-1782691199@charlieandecho.com
SUMMARY:Wine Club – First Round on Us!
DESCRIPTION:Wine Club Members – come in on this day\, and the first round for you and a guest is on us!
URL:https://charlieandecho.com/event/wine-club-first-round-on-us-24/
LOCATION:Charlie & Echo\, 8680 Miralani Dr #125\, San Diego\, CA\, 92126\, United States
CATEGORIES:First Round on Us
ATTACH;FMTTYPE=image/jpeg:https://charlieandecho.com/wp-content/uploads/2018/01/wine-tasting-e1583191775166.jpg
ORGANIZER;CN="Charlie & Echo":MAILTO:info@charlieandecho.com
END:VEVENT
END:VCALENDAR