BEGIN:VCALENDAR
VERSION:2.0
PRODID:-//Charlie &amp; Echo - ECPv6.6.4.2//NONSGML v1.0//EN
CALSCALE:GREGORIAN
METHOD:PUBLISH
X-ORIGINAL-URL:https://charlieandecho.com
X-WR-CALDESC:Events for Charlie &amp; Echo
REFRESH-INTERVAL;VALUE=DURATION:PT1H
X-Robots-Tag:noindex
X-PUBLISHED-TTL:PT1H
BEGIN:VTIMEZONE
TZID:America/Los_Angeles
BEGIN:DAYLIGHT
TZOFFSETFROM:-0800
TZOFFSETTO:-0700
TZNAME:PDT
DTSTART:20260308T100000
END:DAYLIGHT
BEGIN:STANDARD
TZOFFSETFROM:-0700
TZOFFSETTO:-0800
TZNAME:PST
DTSTART:20261101T090000
END:STANDARD
END:VTIMEZONE
BEGIN:VEVENT
DTSTART;VALUE=DATE:20260418
DTEND;VALUE=DATE:20260419
DTSTAMP:20260422T112635
CREATED:20260318T165313Z
LAST-MODIFIED:20260318T165313Z
UID:10000530-1776470400-1776556799@charlieandecho.com
SUMMARY:Wine Club – First Round on Us!
DESCRIPTION:Wine Club Members – come in on this day\, and the first round for you and a guest is on us!
URL:https://charlieandecho.com/event/wine-club-first-round-on-us-9/
LOCATION:Charlie & Echo\, 8680 Miralani Dr #125\, San Diego\, CA\, 92126\, United States
CATEGORIES:First Round on Us
ATTACH;FMTTYPE=image/jpeg:https://charlieandecho.com/wp-content/uploads/2018/01/wine-tasting-e1583191775166.jpg
ORGANIZER;CN="Charlie & Echo":MAILTO:info@charlieandecho.com
END:VEVENT
BEGIN:VEVENT
DTSTART;TZID=America/Los_Angeles:20260416T180000
DTEND;TZID=America/Los_Angeles:20260416T193000
DTSTAMP:20260422T112635
CREATED:20260320T185631Z
LAST-MODIFIED:20260320T185631Z
UID:10000533-1776362400-1776367800@charlieandecho.com
SUMMARY:BINGO Night
DESCRIPTION:BINGO Night – your chance to win big money! \nAnd by big\, we mean crisp\, $100 (fake) bills. Yep\, for every round you win you get cold\, hard\, “copy” money. \nBut\, in addition to looking cool\, they’re not worthless! You can spend your winnings to receive glasses of wine\, bottles\, and other goodies (like the old Wheel of Fortune Showcase\, but with wine). \nGame starts at 6 pm but you can join anytime. Free to play with purchase of a glass of wine.
URL:https://charlieandecho.com/event/bingo-night-3/
LOCATION:Charlie & Echo\, 8680 Miralani Dr #125\, San Diego\, CA\, 92126\, United States
CATEGORIES:Bingo Night
ATTACH;FMTTYPE=image/jpeg:https://charlieandecho.com/wp-content/uploads/2025/09/bingo-night-rs.jpg
ORGANIZER;CN="Charlie & Echo":MAILTO:info@charlieandecho.com
END:VEVENT
BEGIN:VEVENT
DTSTART;VALUE=DATE:20260416
DTEND;VALUE=DATE:20260420
DTSTAMP:20260422T112635
CREATED:20260129T220729Z
LAST-MODIFIED:20260129T221048Z
UID:10000515-1776297600-1776643199@charlieandecho.com
SUMMARY:Mango Green Chile Sangria
DESCRIPTION:White wine\, mango  juice\,  Hatch green chiles\, barrel-aged brandy\, and a touch of lime juice. \n12 oz can\, 13.5% ABV
URL:https://charlieandecho.com/event/mango-green-chile-sangria/
LOCATION:Charlie & Echo\, 8680 Miralani Dr #125\, San Diego\, CA\, 92126\, United States
CATEGORIES:Project X
ATTACH;FMTTYPE=image/jpeg:https://charlieandecho.com/wp-content/uploads/2024/01/events-Project-X-2024-Sangrias-calendar.jpg
ORGANIZER;CN="Charlie & Echo":MAILTO:info@charlieandecho.com
END:VEVENT
BEGIN:VEVENT
DTSTART;VALUE=DATE:20260410
DTEND;VALUE=DATE:20260411
DTSTAMP:20260422T112635
CREATED:20260318T165242Z
LAST-MODIFIED:20260318T165242Z
UID:10000529-1775779200-1775865599@charlieandecho.com
SUMMARY:Wine Club – First Round on Us!
DESCRIPTION:Wine Club Members – come in on this day\, and the first round for you and a guest is on us!
URL:https://charlieandecho.com/event/wine-club-first-round-on-us-8/
LOCATION:Charlie & Echo\, 8680 Miralani Dr #125\, San Diego\, CA\, 92126\, United States
CATEGORIES:First Round on Us
ATTACH;FMTTYPE=image/jpeg:https://charlieandecho.com/wp-content/uploads/2018/01/wine-tasting-e1583191775166.jpg
ORGANIZER;CN="Charlie & Echo":MAILTO:info@charlieandecho.com
END:VEVENT
BEGIN:VEVENT
DTSTART;TZID=America/Los_Angeles:20260409T180000
DTEND;TZID=America/Los_Angeles:20260409T193000
DTSTAMP:20260422T112635
CREATED:20260314T183750Z
LAST-MODIFIED:20260314T183750Z
UID:10000527-1775757600-1775763000@charlieandecho.com
SUMMARY:Movie Night - Soultaker
DESCRIPTION:Tonight’s feature – the 1990 American fantasy horror film starring Joe Estevez\, Soultaker! \n“There is no Stairway to Heaven.” \nFour teenagers are killed in a car accident. Two of the teenagers refuse to go with “The Grim Reaper” and a race between life and death ensues!
URL:https://charlieandecho.com/event/movie-night-soultaker/
LOCATION:Charlie & Echo\, 8680 Miralani Dr #125\, San Diego\, CA\, 92126\, United States
CATEGORIES:Movie Night
ATTACH;FMTTYPE=image/jpeg:https://charlieandecho.com/wp-content/uploads/2026/03/soultaker.jpg
ORGANIZER;CN="Charlie & Echo":MAILTO:info@charlieandecho.com
END:VEVENT
BEGIN:VEVENT
DTSTART;VALUE=DATE:20260409
DTEND;VALUE=DATE:20260413
DTSTAMP:20260422T112635
CREATED:20260129T220625Z
LAST-MODIFIED:20260129T220625Z
UID:10000514-1775692800-1776038399@charlieandecho.com
SUMMARY:Guava Lime Sangria
DESCRIPTION:Red wine\, guava  juice\, lime juice\, barrel-aged brandy\, and a touch of orange juice. \n12 oz can\, 13.5% ABV
URL:https://charlieandecho.com/event/guava-lime-sangria/
LOCATION:Charlie & Echo\, 8680 Miralani Dr #125\, San Diego\, CA\, 92126\, United States
CATEGORIES:Project X
ATTACH;FMTTYPE=image/jpeg:https://charlieandecho.com/wp-content/uploads/2024/01/events-Project-X-2024-Sangrias-calendar.jpg
ORGANIZER;CN="Charlie & Echo":MAILTO:info@charlieandecho.com
END:VEVENT
BEGIN:VEVENT
DTSTART;VALUE=DATE:20260405
DTEND;VALUE=DATE:20260406
DTSTAMP:20260422T112635
CREATED:20260318T182336Z
LAST-MODIFIED:20260318T182336Z
UID:10000532-1775347200-1775433599@charlieandecho.com
SUMMARY:Closed Easter
DESCRIPTION:Please note we are closed Sunday\, April 5\, for Easter.
URL:https://charlieandecho.com/event/closed-easter/
LOCATION:Charlie & Echo\, 8680 Miralani Dr #125\, San Diego\, CA\, 92126\, United States
ATTACH;FMTTYPE=image/jpeg:https://charlieandecho.com/wp-content/uploads/2024/03/easter.jpg
ORGANIZER;CN="Charlie & Echo":MAILTO:info@charlieandecho.com
END:VEVENT
BEGIN:VEVENT
DTSTART;VALUE=DATE:20260402
DTEND;VALUE=DATE:20260406
DTSTAMP:20260422T112635
CREATED:20260129T220453Z
LAST-MODIFIED:20260129T220453Z
UID:10000513-1775088000-1775433599@charlieandecho.com
SUMMARY:Grapefruit Papaya Sangria
DESCRIPTION:Red wine\, grapefruit juice\, papaya juice\, and barrel-aged brandy. \n12 oz can\, 13.5% ABV
URL:https://charlieandecho.com/event/grapefruit-papaya-sangria/
LOCATION:Charlie & Echo\, 8680 Miralani Dr #125\, San Diego\, CA\, 92126\, United States
CATEGORIES:Project X
ATTACH;FMTTYPE=image/jpeg:https://charlieandecho.com/wp-content/uploads/2024/01/events-Project-X-2024-Sangrias-calendar.jpg
ORGANIZER;CN="Charlie & Echo":MAILTO:info@charlieandecho.com
END:VEVENT
BEGIN:VEVENT
DTSTART;VALUE=DATE:20260402
DTEND;VALUE=DATE:20260403
DTSTAMP:20260422T112635
CREATED:20260318T164645Z
LAST-MODIFIED:20260318T164645Z
UID:10000528-1775088000-1775174399@charlieandecho.com
SUMMARY:Wine Club – First Round on Us!
DESCRIPTION:Wine Club Members – come in on this day\, and the first round for you and a guest is on us!
URL:https://charlieandecho.com/event/wine-club-first-round-on-us-7/
LOCATION:Charlie & Echo\, 8680 Miralani Dr #125\, San Diego\, CA\, 92126\, United States
CATEGORIES:First Round on Us
ATTACH;FMTTYPE=image/jpeg:https://charlieandecho.com/wp-content/uploads/2018/01/wine-tasting-e1583191775166.jpg
ORGANIZER;CN="Charlie & Echo":MAILTO:info@charlieandecho.com
END:VEVENT
BEGIN:VEVENT
DTSTART;VALUE=DATE:20260329
DTEND;VALUE=DATE:20260330
DTSTAMP:20260422T112635
CREATED:20260205T171416Z
LAST-MODIFIED:20260205T171416Z
UID:10000522-1774742400-1774828799@charlieandecho.com
SUMMARY:Wine Club – First Round on Us!
DESCRIPTION:Wine Club Members – come in on this day\, and the first round for you and a guest is on us!
URL:https://charlieandecho.com/event/wine-club-first-round-on-us-6/
LOCATION:Charlie & Echo\, 8680 Miralani Dr #125\, San Diego\, CA\, 92126\, United States
CATEGORIES:First Round on Us
ATTACH;FMTTYPE=image/jpeg:https://charlieandecho.com/wp-content/uploads/2018/01/wine-tasting-e1583191775166.jpg
ORGANIZER;CN="Charlie & Echo":MAILTO:info@charlieandecho.com
END:VEVENT
BEGIN:VEVENT
DTSTART;VALUE=DATE:20260328
DTEND;VALUE=DATE:20260329
DTSTAMP:20260422T112635
CREATED:20260303T174950Z
LAST-MODIFIED:20260303T174950Z
UID:10000525-1774656000-1774742399@charlieandecho.com
SUMMARY:Wine & Chocolate Pairing
DESCRIPTION:Wine and chocolate pairing is back with the always delicious Dallmann Confections! If you haven’t had a chance to enjoy Dallmann\, they set the bar for chocolatiers in town. \nDallmann has put together a special collection of five luscious chocolates for us\, which we’re pairing with three different wines. We’ll have the chocolates ready for you to enjoy whenever you’d like to visit our Miralani Tasting Room on Saturday\, March 28\, 1 – 8pm (this is not a formal event starting at a set time). Orders cannot be shipped. \nAs always\, Wine Club members receive 20% off their order! If you aren’t a member of our Wine Club\, you can join now online and reap the savings. \n~ Chocolates & Pairings (wines might change…) ~ \n\n2022 Firefly (3 oz pour) with\n– Strawberry Balsamic (aged Modena balsamic vinegar and fresh organic strawberry puree encased in smooth white chocolate)\n– Hibiscus Raspberry (white chocolate with a slightly tangy and fruity flavor of hibiscus followed by a layer of raspberry jelly)\n2022 Encounter (1.25 oz pour) with\n– Dubai Knafeh Pistachio (silky milk chocolate with rich pistachio cream filling and the delicate crunch of golden\, flaky filo layers)\n2021 Rainfall (3 oz pour) with\n– Vanilla (bourbon vanilla mixed in a white chocolate ganache)\n– Fleur De Sel Caramel (buttery caramel seasoned with sea salt encased in bittersweet chocolate)\n\nOrders must be placed by 11:59 pm\, Friday\, March 20th! We will not have tickets available at the door. \n>> Get your tickets here! <<
URL:https://charlieandecho.com/event/wine-chocolate-pairing/
LOCATION:Charlie & Echo\, 8680 Miralani Dr #125\, San Diego\, CA\, 92126\, United States
CATEGORIES:Wine and Food Pairing
ATTACH;FMTTYPE=image/jpeg:https://charlieandecho.com/wp-content/uploads/2022/03/Dallmann_640.jpg
ORGANIZER;CN="Charlie & Echo":MAILTO:info@charlieandecho.com
END:VEVENT
BEGIN:VEVENT
DTSTART;VALUE=DATE:20260326
DTEND;VALUE=DATE:20260330
DTSTAMP:20260422T112635
CREATED:20260129T220353Z
LAST-MODIFIED:20260129T220353Z
UID:10000512-1774483200-1774828799@charlieandecho.com
SUMMARY:Orange Ginger Sangria
DESCRIPTION:Red wine\, orange juice\, fresh ginger\, and barrel-aged brandy. \n12 oz can\, 13.5% ABV
URL:https://charlieandecho.com/event/orange-ginger-sangria/
LOCATION:Charlie & Echo\, 8680 Miralani Dr #125\, San Diego\, CA\, 92126\, United States
CATEGORIES:Project X
ATTACH;FMTTYPE=image/jpeg:https://charlieandecho.com/wp-content/uploads/2024/01/events-Project-X-2024-Sangrias-calendar.jpg
ORGANIZER;CN="Charlie & Echo":MAILTO:info@charlieandecho.com
END:VEVENT
BEGIN:VEVENT
DTSTART;VALUE=DATE:20260320
DTEND;VALUE=DATE:20260321
DTSTAMP:20260422T112635
CREATED:20260205T171332Z
LAST-MODIFIED:20260309T223115Z
UID:10000521-1773964800-1774051199@charlieandecho.com
SUMMARY:Wine Club – First Round on Us!
DESCRIPTION:Wine Club Members – come in on this day\, and the first round for you and a guest is on us!
URL:https://charlieandecho.com/event/wine-club-first-round-on-us-5/
LOCATION:Charlie & Echo\, 8680 Miralani Dr #125\, San Diego\, CA\, 92126\, United States
CATEGORIES:First Round on Us
ATTACH;FMTTYPE=image/jpeg:https://charlieandecho.com/wp-content/uploads/2018/01/wine-tasting-e1583191775166.jpg
ORGANIZER;CN="Charlie & Echo":MAILTO:info@charlieandecho.com
END:VEVENT
BEGIN:VEVENT
DTSTART;TZID=America/Los_Angeles:20260319T180000
DTEND;TZID=America/Los_Angeles:20260319T193000
DTSTAMP:20260422T112635
CREATED:20260227T194436Z
LAST-MODIFIED:20260227T194436Z
UID:10000524-1773943200-1773948600@charlieandecho.com
SUMMARY:BINGO Night
DESCRIPTION:BINGO Night – your chance to win big money! \nAnd by big\, we mean crisp\, $100 (fake) bills. Yep\, for every round you win you get cold\, hard\, “copy” money. \nBut\, in addition to looking cool\, they’re not worthless! You can spend your winnings to receive glasses of wine\, bottles\, and other goodies (like the old Wheel of Fortune Showcase\, but with wine). \nGame starts at 6 pm but you can join anytime. Free to play with purchase of a glass of wine.
URL:https://charlieandecho.com/event/bingo-night/
LOCATION:Charlie & Echo\, 8680 Miralani Dr #125\, San Diego\, CA\, 92126\, United States
CATEGORIES:Bingo Night
ATTACH;FMTTYPE=image/jpeg:https://charlieandecho.com/wp-content/uploads/2025/09/bingo-night-rs.jpg
ORGANIZER;CN="Charlie & Echo":MAILTO:info@charlieandecho.com
END:VEVENT
BEGIN:VEVENT
DTSTART;VALUE=DATE:20260319
DTEND;VALUE=DATE:20260323
DTSTAMP:20260422T112635
CREATED:20260129T220229Z
LAST-MODIFIED:20260129T220229Z
UID:10000511-1773878400-1774223999@charlieandecho.com
SUMMARY:Cherry Hazelnut Sangria
DESCRIPTION:Red wine\, cherry juice\, hazelnut syrup\, barrel-aged brandy\, and a touch of orange juice. \n12 oz can\, 13.5% ABV
URL:https://charlieandecho.com/event/cherry-hazelnut-sangria/
LOCATION:Charlie & Echo\, 8680 Miralani Dr #125\, San Diego\, CA\, 92126\, United States
CATEGORIES:Project X
ATTACH;FMTTYPE=image/jpeg:https://charlieandecho.com/wp-content/uploads/2024/01/events-Project-X-2024-Sangrias-calendar.jpg
ORGANIZER;CN="Charlie & Echo":MAILTO:info@charlieandecho.com
END:VEVENT
BEGIN:VEVENT
DTSTART;VALUE=DATE:20260314
DTEND;VALUE=DATE:20260315
DTSTAMP:20260422T112635
CREATED:20260205T171251Z
LAST-MODIFIED:20260309T223123Z
UID:10000520-1773446400-1773532799@charlieandecho.com
SUMMARY:Wine Club – First Round on Us!
DESCRIPTION:Wine Club Members – come in on this day\, and the first round for you and a guest is on us!
URL:https://charlieandecho.com/event/wine-club-first-round-on-us-3/
LOCATION:Charlie & Echo\, 8680 Miralani Dr #125\, San Diego\, CA\, 92126\, United States
CATEGORIES:First Round on Us
ATTACH;FMTTYPE=image/jpeg:https://charlieandecho.com/wp-content/uploads/2018/01/wine-tasting-e1583191775166.jpg
ORGANIZER;CN="Charlie & Echo":MAILTO:info@charlieandecho.com
END:VEVENT
BEGIN:VEVENT
DTSTART;VALUE=DATE:20260313
DTEND;VALUE=DATE:20260314
DTSTAMP:20260422T112635
CREATED:20260309T223601Z
LAST-MODIFIED:20260309T223927Z
UID:10000526-1773360000-1773446399@charlieandecho.com
SUMMARY:Closed
DESCRIPTION:We will be closed Friday\, March 13.
URL:https://charlieandecho.com/event/closed/
LOCATION:Charlie & Echo\, 8680 Miralani Dr #125\, San Diego\, CA\, 92126\, United States
ATTACH;FMTTYPE=image/jpeg:https://charlieandecho.com/wp-content/uploads/2024/04/1-sorry-we-re-closed-but-still-awesome-tag-1101720.jpg
ORGANIZER;CN="Charlie & Echo":MAILTO:info@charlieandecho.com
END:VEVENT
BEGIN:VEVENT
DTSTART;TZID=America/Los_Angeles:20260312T180000
DTEND;TZID=America/Los_Angeles:20260312T193000
DTSTAMP:20260422T112635
CREATED:20260216T233311Z
LAST-MODIFIED:20260216T233311Z
UID:10000523-1773338400-1773343800@charlieandecho.com
SUMMARY:Movie Night - Hercules Unchained
DESCRIPTION:Tonight’s feature – the 1959 Italian-French epic fantasy feature film\, Hercules Unchained! \n“Spectacles of Massive Might Beyond Any Ever Known Before!” \nEn route to Thebes for an important diplomatic mission\, Hercules drinks from a magic spring and loses his memory. He spends most of the movie in the pleasure gardens of Queen Omphale of Lydia. While young Ulysses tries to help him regain his memory\, political tensions escalate in Thebes\, and Hercules’ new wife Iole finds herself in mortal danger.
URL:https://charlieandecho.com/event/movie-night-hercules-unchained/
LOCATION:Charlie & Echo\, 8680 Miralani Dr #125\, San Diego\, CA\, 92126\, United States
CATEGORIES:Movie Night
ATTACH;FMTTYPE=image/jpeg:https://charlieandecho.com/wp-content/uploads/2026/02/hercules-unchained-scaled.jpg
ORGANIZER;CN="Charlie & Echo":MAILTO:info@charlieandecho.com
END:VEVENT
BEGIN:VEVENT
DTSTART;VALUE=DATE:20260312
DTEND;VALUE=DATE:20260316
DTSTAMP:20260422T112635
CREATED:20260129T220100Z
LAST-MODIFIED:20260129T220100Z
UID:10000510-1773273600-1773619199@charlieandecho.com
SUMMARY:Peach Blueberry Sangria
DESCRIPTION:Red wine\, peach juice\, blueberry juice\, barrel-aged brandy\, and a touch of lemon juice. \n12 oz can\, 13.5% ABV
URL:https://charlieandecho.com/event/peach-blueberry-sangria/
LOCATION:Charlie & Echo\, 8680 Miralani Dr #125\, San Diego\, CA\, 92126\, United States
CATEGORIES:Project X
ATTACH;FMTTYPE=image/jpeg:https://charlieandecho.com/wp-content/uploads/2024/01/events-Project-X-2024-Sangrias-calendar.jpg
ORGANIZER;CN="Charlie & Echo":MAILTO:info@charlieandecho.com
END:VEVENT
BEGIN:VEVENT
DTSTART;VALUE=DATE:20260305
DTEND;VALUE=DATE:20260309
DTSTAMP:20260422T112635
CREATED:20260129T215958Z
LAST-MODIFIED:20260129T215958Z
UID:10000509-1772668800-1773014399@charlieandecho.com
SUMMARY:Blackberry Mint Sangria
DESCRIPTION:Red wine\, blackberry juice\, fresh mint\, barrel-aged brandy\, and a touch of lemon juice. \n12 oz can\, 13.5% ABV
URL:https://charlieandecho.com/event/blackberry-mint-sangria/
LOCATION:Charlie & Echo\, 8680 Miralani Dr #125\, San Diego\, CA\, 92126\, United States
CATEGORIES:Project X
ATTACH;FMTTYPE=image/jpeg:https://charlieandecho.com/wp-content/uploads/2024/01/events-Project-X-2024-Sangrias-calendar.jpg
ORGANIZER;CN="Charlie & Echo":MAILTO:info@charlieandecho.com
END:VEVENT
BEGIN:VEVENT
DTSTART;VALUE=DATE:20260305
DTEND;VALUE=DATE:20260306
DTSTAMP:20260422T112635
CREATED:20260205T171154Z
LAST-MODIFIED:20260205T171154Z
UID:10000519-1772668800-1772755199@charlieandecho.com
SUMMARY:Wine Club – First Round on Us!
DESCRIPTION:Wine Club Members – come in on this day\, and the first round for you and a guest is on us!
URL:https://charlieandecho.com/event/wine-club-first-round-on-us/
LOCATION:Charlie & Echo\, 8680 Miralani Dr #125\, San Diego\, CA\, 92126\, United States
CATEGORIES:First Round on Us
ATTACH;FMTTYPE=image/jpeg:https://charlieandecho.com/wp-content/uploads/2018/01/wine-tasting-e1583191775166.jpg
ORGANIZER;CN="Charlie & Echo":MAILTO:info@charlieandecho.com
END:VEVENT
BEGIN:VEVENT
DTSTART;VALUE=DATE:20260228
DTEND;VALUE=DATE:20260301
DTSTAMP:20260422T112635
CREATED:20251231T163651Z
LAST-MODIFIED:20251231T163651Z
UID:10000500-1772236800-1772323199@charlieandecho.com
SUMMARY:Wine Club – First Round on Us!
DESCRIPTION:Wine Club Members – come in on this day\, and the first round for you and a guest is on us!
URL:https://charlieandecho.com/event/wine-club-first-round-on-us-17/
LOCATION:Charlie & Echo\, 8680 Miralani Dr #125\, San Diego\, CA\, 92126\, United States
CATEGORIES:First Round on Us
ATTACH;FMTTYPE=image/jpeg:https://charlieandecho.com/wp-content/uploads/2018/01/wine-tasting-e1583191775166.jpg
ORGANIZER;CN="Charlie & Echo":MAILTO:info@charlieandecho.com
END:VEVENT
BEGIN:VEVENT
DTSTART;TZID=America/Los_Angeles:20260226T170000
DTEND;TZID=America/Los_Angeles:20260226T200000
DTSTAMP:20260422T112635
CREATED:20260130T171403Z
LAST-MODIFIED:20260130T171403Z
UID:10000518-1772125200-1772136000@charlieandecho.com
SUMMARY:Vinyl Night
DESCRIPTION:Each month on the 4th Thursday\,  we turn our sound system over to the delights of all you vinyl enthusiasts and collectors. \nHere’s how it works… \n\nBring in your vinyl! Pick and album and a side\, and we’ll take turns playing them in rotation with everyone else’s selections.\nPlay music\, not not music (e.g. no recorded speeches\, skits\, etc)\nKeep it reasonably clean (we allow kids in the tasting room)
URL:https://charlieandecho.com/event/vinyl-night-3/
LOCATION:Charlie & Echo\, 8680 Miralani Dr #125\, San Diego\, CA\, 92126\, United States
CATEGORIES:Vinyl Night
ATTACH;FMTTYPE=image/jpeg:https://charlieandecho.com/wp-content/uploads/2023/05/VinylBlog-e1685495769641.jpg
ORGANIZER;CN="Charlie & Echo":MAILTO:info@charlieandecho.com
END:VEVENT
BEGIN:VEVENT
DTSTART;VALUE=DATE:20260226
DTEND;VALUE=DATE:20260302
DTSTAMP:20260422T112635
CREATED:20260129T215845Z
LAST-MODIFIED:20260129T215845Z
UID:10000508-1772064000-1772409599@charlieandecho.com
SUMMARY:Yuzu Vanilla Sangria
DESCRIPTION:Red wine\, yuzu juice\, vanilla extract\, and barrel-aged brandy. \n12 oz can\, 13.5% ABV
URL:https://charlieandecho.com/event/yuzu-vanilla-sangria/
LOCATION:Charlie & Echo\, 8680 Miralani Dr #125\, San Diego\, CA\, 92126\, United States
CATEGORIES:Project X
ATTACH;FMTTYPE=image/jpeg:https://charlieandecho.com/wp-content/uploads/2024/01/events-Project-X-2024-Sangrias-calendar.jpg
ORGANIZER;CN="Charlie & Echo":MAILTO:info@charlieandecho.com
END:VEVENT
BEGIN:VEVENT
DTSTART;VALUE=DATE:20260222
DTEND;VALUE=DATE:20260223
DTSTAMP:20260422T112635
CREATED:20251231T163557Z
LAST-MODIFIED:20251231T163557Z
UID:10000499-1771718400-1771804799@charlieandecho.com
SUMMARY:Wine Club – First Round on Us!
DESCRIPTION:Wine Club Members – come in on this day\, and the first round for you and a guest is on us!
URL:https://charlieandecho.com/event/wine-club-first-round-on-us-16/
LOCATION:Charlie & Echo\, 8680 Miralani Dr #125\, San Diego\, CA\, 92126\, United States
CATEGORIES:First Round on Us
ATTACH;FMTTYPE=image/jpeg:https://charlieandecho.com/wp-content/uploads/2018/01/wine-tasting-e1583191775166.jpg
ORGANIZER;CN="Charlie & Echo":MAILTO:info@charlieandecho.com
END:VEVENT
BEGIN:VEVENT
DTSTART;TZID=America/Los_Angeles:20260221T130000
DTEND;TZID=America/Los_Angeles:20260221T200000
DTSTAMP:20260422T112635
CREATED:20260129T202632Z
LAST-MODIFIED:20260129T202632Z
UID:10000504-1771678800-1771704000@charlieandecho.com
SUMMARY:Wine and Cheese Pairing
DESCRIPTION:It’s February\, which means romance… the romance of wine with cheese and charcuterie from Small Goods! \nWe’ll have an awesome pairing of three wines to enjoy with an array of meats and cheeses and accoutrements. We’ve done many pairings with Small Goods over the years\, and for those of you who don’t know them\, they source the absolutely best\, artisanal\, American cheeses and charcuterie. Stunning stuff. These pairings have always been delicious! \nWe’ll have the cheese and charcuterie ready for you to enjoy whenever you’d like to visit our Miralani Tasting Room on Saturday\, February 21\, 1-8pm (this is not a formal presentation event starting at a set time). Orders cannot be shipped. \n>> Get your tickets now! << \nAs always\, Wine Club members receive 20% off their order. If you aren’t a member of our Wine Club\, you can join now online and reap the savings. \nTicket sales end Thursday\, Midnight\, February 19th!
URL:https://charlieandecho.com/event/wine-and-cheese-pairing/
LOCATION:Charlie & Echo\, 8680 Miralani Dr #125\, San Diego\, CA\, 92126\, United States
ATTACH;FMTTYPE=image/jpeg:https://charlieandecho.com/wp-content/uploads/2022/04/cheese-2022-04.jpg
ORGANIZER;CN="Charlie & Echo":MAILTO:info@charlieandecho.com
END:VEVENT
BEGIN:VEVENT
DTSTART;TZID=America/Los_Angeles:20260219T180000
DTEND;TZID=America/Los_Angeles:20260219T193000
DTSTAMP:20260422T112635
CREATED:20251231T164218Z
LAST-MODIFIED:20251231T164218Z
UID:10000501-1771524000-1771529400@charlieandecho.com
SUMMARY:BINGO Night
DESCRIPTION:BINGO Night – your chance to win big money! \nAnd by big\, we mean crisp\, $100 (fake) bills. Yep\, for every round you win you get cold\, hard\, “copy” money. \nBut\, in addition to looking cool\, they’re not worthless! You can spend your winnings to receive glasses of wine\, bottles\, and other goodies (like the old Wheel of Fortune Showcase\, but with wine). \nGame starts at 6 pm but you can join anytime. Free to play with purchase of a glass of wine.
URL:https://charlieandecho.com/event/bingo-night-2/
LOCATION:Charlie & Echo\, 8680 Miralani Dr #125\, San Diego\, CA\, 92126\, United States
CATEGORIES:Bingo Night
ATTACH;FMTTYPE=image/jpeg:https://charlieandecho.com/wp-content/uploads/2025/09/bingo-night-rs.jpg
ORGANIZER;CN="Charlie & Echo":MAILTO:info@charlieandecho.com
END:VEVENT
BEGIN:VEVENT
DTSTART;VALUE=DATE:20260219
DTEND;VALUE=DATE:20260223
DTSTAMP:20260422T112635
CREATED:20260129T215737Z
LAST-MODIFIED:20260129T215737Z
UID:10000507-1771459200-1771804799@charlieandecho.com
SUMMARY:Grilled Citrus Sangria
DESCRIPTION:Red wine\, grilled oranges\, grilled lemons\, grilled limes\, and barrel-aged brandy. \n12 oz can\, 13.5% ABV
URL:https://charlieandecho.com/event/grilled-citrus-sangria/
LOCATION:Charlie & Echo\, 8680 Miralani Dr #125\, San Diego\, CA\, 92126\, United States
CATEGORIES:Project X
ATTACH;FMTTYPE=image/jpeg:https://charlieandecho.com/wp-content/uploads/2024/01/events-Project-X-2024-Sangrias-calendar.jpg
ORGANIZER;CN="Charlie & Echo":MAILTO:info@charlieandecho.com
END:VEVENT
BEGIN:VEVENT
DTSTART;VALUE=DATE:20260213
DTEND;VALUE=DATE:20260214
DTSTAMP:20260422T112635
CREATED:20251231T163507Z
LAST-MODIFIED:20251231T163507Z
UID:10000498-1770940800-1771027199@charlieandecho.com
SUMMARY:Wine Club – First Round on Us!
DESCRIPTION:Wine Club Members – come in on this day\, and the first round for you and a guest is on us!
URL:https://charlieandecho.com/event/wine-club-first-round-on-us-15/
LOCATION:Charlie & Echo\, 8680 Miralani Dr #125\, San Diego\, CA\, 92126\, United States
CATEGORIES:First Round on Us
ATTACH;FMTTYPE=image/jpeg:https://charlieandecho.com/wp-content/uploads/2018/01/wine-tasting-e1583191775166.jpg
ORGANIZER;CN="Charlie & Echo":MAILTO:info@charlieandecho.com
END:VEVENT
BEGIN:VEVENT
DTSTART;TZID=America/Los_Angeles:20260212T180000
DTEND;TZID=America/Los_Angeles:20260212T193000
DTSTAMP:20260422T112635
CREATED:20260110T173917Z
LAST-MODIFIED:20260110T173917Z
UID:10000503-1770919200-1770924600@charlieandecho.com
SUMMARY:Movie Night - It Conquered the World
DESCRIPTION:Tonight’s feature – the 1956 science fiction horror film\, It Conquered the World! \n“Every man its prisoner… every woman its slave!” \nA well meaning scientist guides an alien monster to Earth from Venus\, so that he can rid mankind of feelings and emotions – but only death and sorrow results.
URL:https://charlieandecho.com/event/movie-night-it-conquered-the-world/
LOCATION:Charlie & Echo\, 8680 Miralani Dr #125\, San Diego\, CA\, 92126\, United States
CATEGORIES:Movie Night
ATTACH;FMTTYPE=image/jpeg:https://charlieandecho.com/wp-content/uploads/2026/01/it-conquered-the-world.jpg
ORGANIZER;CN="Charlie & Echo":MAILTO:info@charlieandecho.com
END:VEVENT
END:VCALENDAR